BEGIN:VCALENDAR
VERSION:2.0
METHOD:PUBLISH
BEGIN:VEVENT
UID:WILD_APRICOT_EVENT_2068163_SESSION_1
DTSTART:20160519T050000Z
DTEND:20160522T030000Z
SUMMARY:Integrating shiatsu into the Australian healthcare system
LOCATION:Iluka Ecoretreat\, 20 Shoreham Rd\, Shoreham\, Victoria
DESCRIPTION:https://www.staa.org.au/event-2068163\n\n***DON'T MISS OUT - Registrations close 13 May 2016***\n  The 2016 STAA National Conference theme — Integrating shiatsu into the Australian healthcare system  — is STAA’s mission statement.\n  We are determined to get closer to that ideal. STAA aims to secure our place as a respected\, legitimate natural therapy in the rapidly changing healthcare landscape. At this conference we are bringing together very experienced practitioners to help you develop your practice in your community\, and embrace the challenges of promoting and integrating shiatsu therapy.\n  We all need clear language and funded promotional strategies to help us communicate with the public and other healthcare workers. With the support of current Australian research and well-collated data\, we will be able to communicate with government bodies in the future. And we all need regular income to be ongoing feasible practitioners and run sustainable practice clinics.\n  Bring your voice and have your say in how STAA moves forward\, identify possible roadblocks and develop a plan of how to get past them. Prepare to be inspired.\n  Register online or download: \n Conference program and registration form\n  Let’s upgrade our skills\, give and receive shiatsu treatments and enjoy ourselves with great camaraderie over four days on the Mornington Peninsula in May!\n  Linda Rago\n President\n Shiatsu Therapy Association of Australia\n  \n
DTSTAMP:20260424T162614Z
END:VEVENT
END:VCALENDAR
