BEGIN:VCALENDAR
VERSION:2.0
METHOD:PUBLISH
BEGIN:VEVENT
UID:WILD_APRICOT_EVENT_2301898_SESSION_1
DTSTART:20160910T030000Z
DTEND:20160910T070000Z
SUMMARY:Breath as a Therapeutic Tool
LOCATION:Grasshopper Studio\, 56 Eucalyptus Rd\, Eltham\, Vic
DESCRIPTION:https://www.staa.org.au/event-2301898\n\nPoor or inefficient breathing habits can lead to illness and limit healing outcomes from therapeutic treatment. In this 4-hour\n  workshop\, we will study the anatomy of the respiration system\, the importance and function of the diaphragm\, relevant eastern and western terminology and practise shiatsu techniques to improve both the patients’ breathing and the breath of the practitioner.\n  \n\n  Specific conditions such as asthma\, depression\, anxiety/stress\, inability to sleep\, over-thinking\, injury rehabilitation and pain management will be discussed.\n  \n\n  • Increase your knowledge of the respiration system and how it can limit or improve healing outcomes\n  \n\n  • Learn practical techniques to use in treatment\n  \n\n  • Improve your breathing during professional practice\n  \n\nWorkshop flyer
DTSTAMP:20260424T162548Z
END:VEVENT
END:VCALENDAR
