BEGIN:VCALENDAR
VERSION:2.0
METHOD:PUBLISH
BEGIN:VEVENT
UID:WILD_APRICOT_EVENT_2502283_SESSION_1
DTSTART:20170914T140000Z
DTEND:20170917T140000Z
SUMMARY:STAA Annual Retreat 2017
LOCATION:Burleigh Heads\, Queensland
DESCRIPTION:https://www.staa.org.au/event-2502283\n\n** A few places left - registration extended to 31 August**\n  STAA is delighted to bring Mr Mikito Nagai and Shu Takeda to Australia to share their research and knowledge. \n  This is a unique opportunity to learn Mr Nagai's bone-warming and bone-vibrating techniques. Mr Nagai has developed these techniques\, and practitioners around the world are using them to treat their patients.\n  Please support our efforts to strengthen our shiatsu community\, augment our training\, support our individual capacity to offer healing and service to our patients\, and foster international professional relationships.\n\n  Therapists\, students and carers will be made very welcome in our efforts to grow STAA and integrate shiatsu into the healthcare system of Australia. \n  Conference brochure\n  Linda Rago\n Vice President\n Shiatsu Therapy Association of Australia\n  \n\n
DTSTAMP:20260424T162651Z
END:VEVENT
END:VCALENDAR
