BEGIN:VCALENDAR
VERSION:2.0
METHOD:PUBLISH
BEGIN:VEVENT
UID:WILD_APRICOT_EVENT_2989251_SESSION_1
DTSTART:20190523T140000Z
DTEND:20190527T140000Z
SUMMARY:Empower & Engage with Shiatsu ~ 2019 STAA Conference
LOCATION:Burleigh Heads\, Queensland
DESCRIPTION:https://www.staa.org.au/event-2989251\n\nThe National Council of the Shiatsu Therapy Association of Australia (STAA) is delighted to present a 3-day educational and inclusive shiatsu experience designed to empower and engage professional bodywork practitioners.  \n  This 2019 conference program covers a broad application of treatments in particular areas of health — Alzheimer’s and brain injury\, oncology\, trauma-related conditions\, child and teenage clients\, diet\, digestion and breath dysfunction.  To support our studies and round out the experience\, we will offer morning chanting\, meridian stretches\, guided shiatsu swaps and evening meditation.\n  Friends of shiatsu\, students and non-members are welcome as this program offers excellent guidance to augment the training of aligned health services such as TCM practitioners\, acupuncturists\, massage therapists\, nurses\, disability and aged carers and others.  Introducing the holistic power of shiatsu knowledge and touch supports both the patient and the professional.  \n  STAA conferences are an uplifting experience based on interactive opportunities to receive and give bodywork\, connecting and caring\, good food and clear communication.  Support the study and research of complementary medicine in Australia\, empower yourself through a variety of personal learning experiences and engage in the sharing of knowledge.\n  We look forward to greeting you with energy and warmth on the 24th May.\n  Linda Rago\n Conference Coordinator\n Shiatsu Therapy Association of Australia\nConference brochure
DTSTAMP:20260424T160320Z
END:VEVENT
END:VCALENDAR
