BEGIN:VCALENDAR
VERSION:2.0
METHOD:PUBLISH
BEGIN:VEVENT
UID:WILD_APRICOT_EVENT_2992723_SESSION_1
DTSTART:20180825T030000Z
DTEND:20180825T070000Z
SUMMARY:Application of mindfulness to shiatsu and your daily life
LOCATION:Grasshopper Yoga Studio\, 56 Eucalyptus Rd\, Eltham
DESCRIPTION:https://www.staa.org.au/event-2992723\n\nMindfulness is the latest buzzword for psychologists nowadays\, used as a ‘meditation’ technique for clients in dealing with depression. In traditional Buddhist culture\, a practitioner applies mindfulness in many areas of daily life.\n  This workshop explores the holistic definition and practice of mindfulness according to the Buddhist tradition\, where the word ‘mindfulness’ has its origins.\n  Using the basic understanding of mindfulness\, we will then explore its application to shiatsu. Understanding the mindfulness practice can change our perspective and approach in therapeutic practices\,.\n  Yong Kuo has been practising shiatsu since 1995\, and teaches classical yoga at his studio in Eltham. He was a Buddhist monk in Burma and Thailand\, where he learnt the foundations of meditation practice. Yong has worked with many community groups — including the Aboriginal Elders in East Brunswick\, juvenile justice\, drug rehabilitation\, and LGBTI counsellors — sharing the benefits of mindful practices.\n  This workshop is suitable for shiatsu therapists and students interested in practice and integrating traditional mindfulness into their daily lives.\n  Workshop flyer\n
DTSTAMP:20260424T162723Z
END:VEVENT
END:VCALENDAR
