BEGIN:VCALENDAR
VERSION:2.0
METHOD:PUBLISH
BEGIN:VEVENT
UID:WILD_APRICOT_EVENT_3640704_SESSION_1
DTSTART:20200529T070000Z
DTEND:20200531T064500Z
SUMMARY:Bringing Power\, Joy & Rhythm to the Heart ~ 2020 STAA Conference
LOCATION:Australian Shiatsu College\, 103 Evans St\, Brunswick
DESCRIPTION:https://www.staa.org.au/event-3640704\n\n\n\n  \n\n  We regret that the STAA 2020 Conference has been cancelled due to COVID19. We look forward to getting together for the 2021 Conference and online in the meantime.\n  Take care everyone.\n  \n\n  The STAA Conference 2020 comes from the Heart\, providing an opportunity for shiatsu therapists and those who love shiatsu to come together to connect\, learn and be inspired.\n  We open the conference on the Friday evening at the Australian Shiatsu College with a beautiful meditative ‘sound bath’ and close on the Sunday with a vibrant drumming experience.\n  Presentations relate to Heart … with connection\, communication and discussion aplenty.\n  The quality of proposals has been inspiring — diverse\, creative\, heart-warming! \n  Most of our presenters have not previously spoken at a STAA conference and bring a fresh exuberance to the event.\n  Experiential sessions offer breathwork\, yoga and meditation. \n  The Heart — central to our lives — our connection with ourselves\, our dear ones\, our clients\, our community.  \n  We open our Hearts and welcome you to a conference which reflects the power\, joy and rhythm of shiatsu!\n  Alex Caldwell\n Conference Convenor\n  Conference brochure\n  \n\n  \n\n  \n\n
DTSTAMP:20260424T161005Z
END:VEVENT
END:VCALENDAR
